BEGIN:VCALENDAR
VERSION:2.0
PRODID:-//De Leiegouw - ECPv6.15.20//NONSGML v1.0//EN
CALSCALE:GREGORIAN
METHOD:PUBLISH
X-ORIGINAL-URL:https://leiegouw.be
X-WR-CALDESC:Evenementen voor De Leiegouw
REFRESH-INTERVAL;VALUE=DURATION:PT1H
X-Robots-Tag:noindex
X-PUBLISHED-TTL:PT1H
BEGIN:VTIMEZONE
TZID:Europe/Brussels
BEGIN:DAYLIGHT
TZOFFSETFROM:+0100
TZOFFSETTO:+0200
TZNAME:CEST
DTSTART:20250330T010000
END:DAYLIGHT
BEGIN:STANDARD
TZOFFSETFROM:+0200
TZOFFSETTO:+0100
TZNAME:CET
DTSTART:20251026T010000
END:STANDARD
BEGIN:DAYLIGHT
TZOFFSETFROM:+0100
TZOFFSETTO:+0200
TZNAME:CEST
DTSTART:20260329T010000
END:DAYLIGHT
BEGIN:STANDARD
TZOFFSETFROM:+0200
TZOFFSETTO:+0100
TZNAME:CET
DTSTART:20261025T010000
END:STANDARD
BEGIN:DAYLIGHT
TZOFFSETFROM:+0100
TZOFFSETTO:+0200
TZNAME:CEST
DTSTART:20270328T010000
END:DAYLIGHT
BEGIN:STANDARD
TZOFFSETFROM:+0200
TZOFFSETTO:+0100
TZNAME:CET
DTSTART:20271031T010000
END:STANDARD
END:VTIMEZONE
BEGIN:VEVENT
DTSTART;TZID=Europe/Brussels:20260505T190000
DTEND;TZID=Europe/Brussels:20260505T210000
DTSTAMP:20260420T190914
CREATED:20250915T135141Z
LAST-MODIFIED:20250915T140019Z
UID:6599-1778007600-1778014800@leiegouw.be
SUMMARY:Een walvis uit Delft\, ossenbloed uit China
DESCRIPTION:Keramiek in Kortrijk Lezing door Mieke De Baerdemaeker en Jo Tollebeek. Twee experten verdiepten zich in de keramiekcollectie van Abby. De lezing behandelt keramiek uit alle windstreken en eeuwen\, van prehistorie tot… Lees verder Een walvis uit Delft\, ossenbloed uit China
URL:https://leiegouw.be/event/een-walvis-uit-delft-ossenbloed-uit-china/
LOCATION:Abby\, Begijnhofpark Kortrijk\, Begijnhofpark\, Kortrijk\, 8500
CATEGORIES:Voordracht
END:VEVENT
END:VCALENDAR