BEGIN:VCALENDAR
VERSION:2.0
PRODID:-//De Leiegouw - ECPv6.15.20//NONSGML v1.0//EN
CALSCALE:GREGORIAN
METHOD:PUBLISH
X-ORIGINAL-URL:https://leiegouw.be
X-WR-CALDESC:Evenementen voor De Leiegouw
REFRESH-INTERVAL;VALUE=DURATION:PT1H
X-Robots-Tag:noindex
X-PUBLISHED-TTL:PT1H
BEGIN:VTIMEZONE
TZID:Europe/Brussels
BEGIN:DAYLIGHT
TZOFFSETFROM:+0100
TZOFFSETTO:+0200
TZNAME:CEST
DTSTART:20250330T010000
END:DAYLIGHT
BEGIN:STANDARD
TZOFFSETFROM:+0200
TZOFFSETTO:+0100
TZNAME:CET
DTSTART:20251026T010000
END:STANDARD
BEGIN:DAYLIGHT
TZOFFSETFROM:+0100
TZOFFSETTO:+0200
TZNAME:CEST
DTSTART:20260329T010000
END:DAYLIGHT
BEGIN:STANDARD
TZOFFSETFROM:+0200
TZOFFSETTO:+0100
TZNAME:CET
DTSTART:20261025T010000
END:STANDARD
BEGIN:DAYLIGHT
TZOFFSETFROM:+0100
TZOFFSETTO:+0200
TZNAME:CEST
DTSTART:20270328T010000
END:DAYLIGHT
BEGIN:STANDARD
TZOFFSETFROM:+0200
TZOFFSETTO:+0100
TZNAME:CET
DTSTART:20271031T010000
END:STANDARD
END:VTIMEZONE
BEGIN:VEVENT
DTSTART;TZID=Europe/Brussels:20260321T090000
DTEND;TZID=Europe/Brussels:20260321T180000
DTSTAMP:20260421T043650
CREATED:20250915T134444Z
LAST-MODIFIED:20260108T151315Z
UID:6588-1774083600-1774116000@leiegouw.be
SUMMARY:De toekomst van het verleden
DESCRIPTION:Het zuiden van West-Vlaanderen is erg bosarm. Het belangrijkste oudbosrelict in de buurt van Kortrijk is Bellegembos-Argendaalbos. Het gebied is historisch goed gedocumenteerd. Door die informatie te koppelen aan onderzoek in het veld hebben Guido Tack en Jan Desmet een zeer lezenswaardig boek geschreven. Daaruit blijkt dat het bos niet enkel ecologisch belangrijk is maar ook cultuurhistorisch.… Lees verder Bellegembos-Argendaalbos. De historische ecologie van een topbos in Zuid-West-Vlaanderen
URL:https://leiegouw.be/event/de-toekomst-van-het-verleden/
LOCATION:Concertstudio\, Muziekcentrum\, Conservatoriumplein\, Kortrijk\, 8511\, Belgium
CATEGORIES:Evenement
ATTACH;FMTTYPE=image/png:https://leiegouw.be/wp-content/uploads/2025/09/Flyer-Congres_v5-16_9.png
ORGANIZER;CN="Familiekunde Vlaanderen Mandel-Leie":MAILTO:fv.regio.mandelleie@gmail.com
END:VEVENT
END:VCALENDAR