BEGIN:VCALENDAR
VERSION:2.0
PRODID:-//De Leiegouw - ECPv6.15.20//NONSGML v1.0//EN
CALSCALE:GREGORIAN
METHOD:PUBLISH
X-ORIGINAL-URL:https://leiegouw.be
X-WR-CALDESC:Evenementen voor De Leiegouw
REFRESH-INTERVAL;VALUE=DURATION:PT1H
X-Robots-Tag:noindex
X-PUBLISHED-TTL:PT1H
BEGIN:VTIMEZONE
TZID:Europe/Brussels
BEGIN:DAYLIGHT
TZOFFSETFROM:+0100
TZOFFSETTO:+0200
TZNAME:CEST
DTSTART:20240331T010000
END:DAYLIGHT
BEGIN:STANDARD
TZOFFSETFROM:+0200
TZOFFSETTO:+0100
TZNAME:CET
DTSTART:20241027T010000
END:STANDARD
BEGIN:DAYLIGHT
TZOFFSETFROM:+0100
TZOFFSETTO:+0200
TZNAME:CEST
DTSTART:20250330T010000
END:DAYLIGHT
BEGIN:STANDARD
TZOFFSETFROM:+0200
TZOFFSETTO:+0100
TZNAME:CET
DTSTART:20251026T010000
END:STANDARD
BEGIN:DAYLIGHT
TZOFFSETFROM:+0100
TZOFFSETTO:+0200
TZNAME:CEST
DTSTART:20260329T010000
END:DAYLIGHT
BEGIN:STANDARD
TZOFFSETFROM:+0200
TZOFFSETTO:+0100
TZNAME:CET
DTSTART:20261025T010000
END:STANDARD
END:VTIMEZONE
BEGIN:VEVENT
DTSTART;TZID=Europe/Brussels:20250904T090000
DTEND;TZID=Europe/Brussels:20251004T170000
DTSTAMP:20260424T124020
CREATED:20250813T104244Z
LAST-MODIFIED:20250813T110846Z
UID:6452-1756976400-1759597200@leiegouw.be
SUMMARY:Tentoonstelling Geschiedenis school Kooigem
DESCRIPTION:Het zuiden van West-Vlaanderen is erg bosarm. Het belangrijkste oudbosrelict in de buurt van Kortrijk is Bellegembos-Argendaalbos. Het gebied is historisch goed gedocumenteerd. Door die informatie te koppelen aan onderzoek in het veld hebben Guido Tack en Jan Desmet een zeer lezenswaardig boek geschreven. Daaruit blijkt dat het bos niet enkel ecologisch belangrijk is maar ook cultuurhistorisch.… Lees verder Bellegembos-Argendaalbos. De historische ecologie van een topbos in Zuid-West-Vlaanderen
URL:https://leiegouw.be/event/tentoonstelling-geschiedenis-school-kooigem/
LOCATION:Sint-Laurentiuskerk Kooigem\, Kooigem\, 8510\, Belgium
CATEGORIES:Voordracht
ATTACH;FMTTYPE=image/png:https://leiegouw.be/wp-content/uploads/2025/08/2025_school_Kooigem-page1-2.png
END:VEVENT
BEGIN:VEVENT
DTSTART;TZID=Europe/Brussels:20251005T103000
DTEND;TZID=Europe/Brussels:20251005T130000
DTSTAMP:20260424T124020
CREATED:20250825T102116Z
LAST-MODIFIED:20250927T123119Z
UID:6511-1759660200-1759669200@leiegouw.be
SUMMARY:Het geslacht de' Medici en hun invloed op de kunst
DESCRIPTION:Het zuiden van West-Vlaanderen is erg bosarm. Het belangrijkste oudbosrelict in de buurt van Kortrijk is Bellegembos-Argendaalbos. Het gebied is historisch goed gedocumenteerd. Door die informatie te koppelen aan onderzoek in het veld hebben Guido Tack en Jan Desmet een zeer lezenswaardig boek geschreven. Daaruit blijkt dat het bos niet enkel ecologisch belangrijk is maar ook cultuurhistorisch.… Lees verder Bellegembos-Argendaalbos. De historische ecologie van een topbos in Zuid-West-Vlaanderen
URL:https://leiegouw.be/event/de-medicis-en-de-kunst/
LOCATION:Abby\, Begijnhofpark Kortrijk\, Begijnhofpark\, Kortrijk\, 8500
CATEGORIES:Voordracht
ATTACH;FMTTYPE=image/jpeg:https://leiegouw.be/wp-content/uploads/2025/08/Medici-Family.jpg
END:VEVENT
BEGIN:VEVENT
DTSTART;TZID=Europe/Brussels:20251016T183000
DTEND;TZID=Europe/Brussels:20251016T203000
DTSTAMP:20260424T124020
CREATED:20250918T145754Z
LAST-MODIFIED:20250918T145754Z
UID:6609-1760639400-1760646600@leiegouw.be
SUMMARY:Erfgoedcafé: verhalen met mes en vork
DESCRIPTION:Het zuiden van West-Vlaanderen is erg bosarm. Het belangrijkste oudbosrelict in de buurt van Kortrijk is Bellegembos-Argendaalbos. Het gebied is historisch goed gedocumenteerd. Door die informatie te koppelen aan onderzoek in het veld hebben Guido Tack en Jan Desmet een zeer lezenswaardig boek geschreven. Daaruit blijkt dat het bos niet enkel ecologisch belangrijk is maar ook cultuurhistorisch.… Lees verder Bellegembos-Argendaalbos. De historische ecologie van een topbos in Zuid-West-Vlaanderen
URL:https://leiegouw.be/event/erfgoedcafe-verhalen-met-mes-en-vork/
LOCATION:Deelfabriek Kortrijk\, Rijkswachtstraat 5\, Kortrijk\, 8500\, Belgium
CATEGORIES:Evenement
ATTACH;FMTTYPE=image/png:https://leiegouw.be/wp-content/uploads/2025/09/20250611-Erfgoedcafe-Uitnodiging-WEB-1.png
END:VEVENT
BEGIN:VEVENT
DTSTART;TZID=Europe/Brussels:20251018T130000
DTEND;TZID=Europe/Brussels:20251018T180000
DTSTAMP:20260424T124020
CREATED:20250712T135337Z
LAST-MODIFIED:20250712T135723Z
UID:6395-1760792400-1760810400@leiegouw.be
SUMMARY:Dag van het West-Vlaamse onderzoek
DESCRIPTION:Het zuiden van West-Vlaanderen is erg bosarm. Het belangrijkste oudbosrelict in de buurt van Kortrijk is Bellegembos-Argendaalbos. Het gebied is historisch goed gedocumenteerd. Door die informatie te koppelen aan onderzoek in het veld hebben Guido Tack en Jan Desmet een zeer lezenswaardig boek geschreven. Daaruit blijkt dat het bos niet enkel ecologisch belangrijk is maar ook cultuurhistorisch.… Lees verder Bellegembos-Argendaalbos. De historische ecologie van een topbos in Zuid-West-Vlaanderen
URL:https://leiegouw.be/event/dag-van-het-west-vlaamse-onderzoek/
LOCATION:ARhus
CATEGORIES:Evenement
ATTACH;FMTTYPE=image/png:https://leiegouw.be/wp-content/uploads/2025/07/heading-DWVO-2025.png
ORGANIZER;CN="De Leiegouw":MAILTO:info@leiegouw.be
END:VEVENT
END:VCALENDAR