BEGIN:VCALENDAR
VERSION:2.0
PRODID:-//De Leiegouw - ECPv6.15.20//NONSGML v1.0//EN
CALSCALE:GREGORIAN
METHOD:PUBLISH
X-WR-CALNAME:De Leiegouw
X-ORIGINAL-URL:https://leiegouw.be
X-WR-CALDESC:Evenementen voor De Leiegouw
REFRESH-INTERVAL;VALUE=DURATION:PT1H
X-Robots-Tag:noindex
X-PUBLISHED-TTL:PT1H
BEGIN:VTIMEZONE
TZID:Europe/Brussels
BEGIN:DAYLIGHT
TZOFFSETFROM:+0100
TZOFFSETTO:+0200
TZNAME:CEST
DTSTART:20230326T010000
END:DAYLIGHT
BEGIN:STANDARD
TZOFFSETFROM:+0200
TZOFFSETTO:+0100
TZNAME:CET
DTSTART:20231029T010000
END:STANDARD
BEGIN:DAYLIGHT
TZOFFSETFROM:+0100
TZOFFSETTO:+0200
TZNAME:CEST
DTSTART:20240331T010000
END:DAYLIGHT
BEGIN:STANDARD
TZOFFSETFROM:+0200
TZOFFSETTO:+0100
TZNAME:CET
DTSTART:20241027T010000
END:STANDARD
BEGIN:DAYLIGHT
TZOFFSETFROM:+0100
TZOFFSETTO:+0200
TZNAME:CEST
DTSTART:20250330T010000
END:DAYLIGHT
BEGIN:STANDARD
TZOFFSETFROM:+0200
TZOFFSETTO:+0100
TZNAME:CET
DTSTART:20251026T010000
END:STANDARD
BEGIN:DAYLIGHT
TZOFFSETFROM:+0100
TZOFFSETTO:+0200
TZNAME:CEST
DTSTART:20260329T010000
END:DAYLIGHT
BEGIN:STANDARD
TZOFFSETFROM:+0200
TZOFFSETTO:+0100
TZNAME:CET
DTSTART:20261025T010000
END:STANDARD
END:VTIMEZONE
BEGIN:VEVENT
DTSTART;TZID=Europe/Brussels:20250904T090000
DTEND;TZID=Europe/Brussels:20251004T170000
DTSTAMP:20260423T111658
CREATED:20250813T104244Z
LAST-MODIFIED:20250813T110846Z
UID:6452-1756976400-1759597200@leiegouw.be
SUMMARY:Tentoonstelling Geschiedenis school Kooigem
DESCRIPTION:Historisch Kooigem pakt uit met een thematentoonstelling 'De geschiedenis van de school van Kooigem' Sint-Laurentiuskerk Kooigem Opening op donderdag 4 september om 19 u. met o.a. een lezing door Leiegouw-bestuurslid Prof.em. Dr. Marc Depaepe: De dorpsschool van weleer... feiten en fictie over het lager onderwijs in de 19de en 20ste eeuw
URL:https://leiegouw.be/event/tentoonstelling-geschiedenis-school-kooigem/
LOCATION:Sint-Laurentiuskerk Kooigem\, Kooigem\, 8510\, Belgium
CATEGORIES:Voordracht
ATTACH;FMTTYPE=image/png:https://leiegouw.be/wp-content/uploads/2025/08/2025_school_Kooigem-page1-2.png
END:VEVENT
BEGIN:VEVENT
DTSTART;TZID=Europe/Brussels:20250515T190000
DTEND;TZID=Europe/Brussels:20250515T210000
DTSTAMP:20260423T111658
CREATED:20250424T071216Z
LAST-MODIFIED:20250424T071216Z
UID:6207-1747335600-1747342800@leiegouw.be
SUMMARY:Leven als god in Kortrijk\, de habitus van een 18de eeuwse linnenhandelaar
DESCRIPTION:Historisch Kooigem pakt uit met een thematentoonstelling 'De geschiedenis van de school van Kooigem' Sint-Laurentiuskerk Kooigem Opening op donderdag 4 september om 19 u. met o.a. een lezing door Leiegouw-bestuurslid Prof.em. Dr. Marc Depaepe: De dorpsschool van weleer... feiten en fictie over het lager onderwijs in de 19de en 20ste eeuw
URL:https://leiegouw.be/event/leven-als-god-in-kortrijk-de-habitus-van-een-18de-eeuwse-linnenhandelaar/
LOCATION:Texture\, Noordstraat 28\, Kortrijk\, 8500\, Belgium
CATEGORIES:Voordracht
END:VEVENT
BEGIN:VEVENT
DTSTART;VALUE=DATE:20250427
DTEND;VALUE=DATE:20250428
DTSTAMP:20260423T111658
CREATED:20250424T071838Z
LAST-MODIFIED:20250424T071929Z
UID:6219-1745712000-1745798399@leiegouw.be
SUMMARY:Erfgoeddag in Zuid-West-Vlaanderen
DESCRIPTION:Historisch Kooigem pakt uit met een thematentoonstelling 'De geschiedenis van de school van Kooigem' Sint-Laurentiuskerk Kooigem Opening op donderdag 4 september om 19 u. met o.a. een lezing door Leiegouw-bestuurslid Prof.em. Dr. Marc Depaepe: De dorpsschool van weleer... feiten en fictie over het lager onderwijs in de 19de en 20ste eeuw
URL:https://leiegouw.be/event/erfgoeddag-in-zuid-west-vlaanderen/
CATEGORIES:Evenement
END:VEVENT
BEGIN:VEVENT
DTSTART;TZID=Europe/Brussels:20250415T190000
DTEND;TZID=Europe/Brussels:20250415T210000
DTSTAMP:20260423T111658
CREATED:20250407T092027Z
LAST-MODIFIED:20250407T092027Z
UID:6188-1744743600-1744750800@leiegouw.be
SUMMARY:Désiré De Haerne en 65 jaar Dovenclub De Haerne
DESCRIPTION:Historisch Kooigem pakt uit met een thematentoonstelling 'De geschiedenis van de school van Kooigem' Sint-Laurentiuskerk Kooigem Opening op donderdag 4 september om 19 u. met o.a. een lezing door Leiegouw-bestuurslid Prof.em. Dr. Marc Depaepe: De dorpsschool van weleer... feiten en fictie over het lager onderwijs in de 19de en 20ste eeuw
URL:https://leiegouw.be/event/desire-de-haerne-en-65-jaar-dovenclub-de-haerne/
CATEGORIES:Voordracht
ATTACH;FMTTYPE=image/jpeg:https://leiegouw.be/wp-content/uploads/2025/04/DeHaerne-e1744017595287.jpg
END:VEVENT
BEGIN:VEVENT
DTSTART;TZID=Europe/Brussels:20250220T190000
DTEND;TZID=Europe/Brussels:20250220T210000
DTSTAMP:20260423T111658
CREATED:20241201T093943Z
LAST-MODIFIED:20241201T100443Z
UID:5986-1740078000-1740085200@leiegouw.be
SUMMARY:Sagen en legenden\, sprookjes en mythen gezien door een Kortrijkse bril
DESCRIPTION:Historisch Kooigem pakt uit met een thematentoonstelling 'De geschiedenis van de school van Kooigem' Sint-Laurentiuskerk Kooigem Opening op donderdag 4 september om 19 u. met o.a. een lezing door Leiegouw-bestuurslid Prof.em. Dr. Marc Depaepe: De dorpsschool van weleer... feiten en fictie over het lager onderwijs in de 19de en 20ste eeuw
URL:https://leiegouw.be/event/sagen-en-legenden-sprookjes-en-mythen-gezien-door-een-kortrijkse-bril/
LOCATION:Dakcafé Stadhuis Kortrijk\, Papenstraat\, Kortrijk\, 8500\, Belgium
CATEGORIES:Voordracht
ORGANIZER;CN="De Leiegouw":MAILTO:info@leiegouw.be
END:VEVENT
BEGIN:VEVENT
DTSTART;TZID=Europe/Brussels:20250109T190000
DTEND;TZID=Europe/Brussels:20250109T220000
DTSTAMP:20260423T111658
CREATED:20241201T094806Z
LAST-MODIFIED:20241201T095159Z
UID:5993-1736449200-1736460000@leiegouw.be
SUMMARY:Fietsen en trompen: velofanfares in Vlaanderen
DESCRIPTION:Historisch Kooigem pakt uit met een thematentoonstelling 'De geschiedenis van de school van Kooigem' Sint-Laurentiuskerk Kooigem Opening op donderdag 4 september om 19 u. met o.a. een lezing door Leiegouw-bestuurslid Prof.em. Dr. Marc Depaepe: De dorpsschool van weleer... feiten en fictie over het lager onderwijs in de 19de en 20ste eeuw
URL:https://leiegouw.be/event/fietsen-en-trompen-velofanfares-in-vlaanderen/
LOCATION:Concertstudio\, Muziekcentrum\, Conservatoriumplein\, Kortrijk\, 8511\, Belgium
CATEGORIES:Voordracht
END:VEVENT
BEGIN:VEVENT
DTSTART;TZID=Europe/Brussels:20241210T190000
DTEND;TZID=Europe/Brussels:20241210T210000
DTSTAMP:20260423T111658
CREATED:20241001T101955Z
LAST-MODIFIED:20241201T100521Z
UID:5769-1733857200-1733864400@leiegouw.be
SUMMARY:Doedelzaktraditie in Vlaanderen
DESCRIPTION:Historisch Kooigem pakt uit met een thematentoonstelling 'De geschiedenis van de school van Kooigem' Sint-Laurentiuskerk Kooigem Opening op donderdag 4 september om 19 u. met o.a. een lezing door Leiegouw-bestuurslid Prof.em. Dr. Marc Depaepe: De dorpsschool van weleer... feiten en fictie over het lager onderwijs in de 19de en 20ste eeuw
URL:https://leiegouw.be/event/doedelzaktraditie-in-vlaanderen/
LOCATION:Dakcafé Stadhuis Kortrijk\, Papenstraat\, Kortrijk\, 8500\, Belgium
CATEGORIES:Voordracht
END:VEVENT
BEGIN:VEVENT
DTSTART;TZID=Europe/Brussels:20241128T190000
DTEND;TZID=Europe/Brussels:20241128T210000
DTSTAMP:20260423T111658
CREATED:20241001T101706Z
LAST-MODIFIED:20241001T101706Z
UID:5760-1732820400-1732827600@leiegouw.be
SUMMARY:Buitenhuis\, binnenkamers. Kunst na 1800 in de collectie Abby
DESCRIPTION:Historisch Kooigem pakt uit met een thematentoonstelling 'De geschiedenis van de school van Kooigem' Sint-Laurentiuskerk Kooigem Opening op donderdag 4 september om 19 u. met o.a. een lezing door Leiegouw-bestuurslid Prof.em. Dr. Marc Depaepe: De dorpsschool van weleer... feiten en fictie over het lager onderwijs in de 19de en 20ste eeuw
URL:https://leiegouw.be/event/buitenhuis-binnenkamers-kunst-na-1800-in-de-collectie-abby/
LOCATION:Dakcafé Stadhuis Kortrijk\, Papenstraat\, Kortrijk\, 8500\, Belgium
CATEGORIES:Voordracht
ATTACH;FMTTYPE=image/jpeg:https://leiegouw.be/wp-content/uploads/2019/07/VerbaalVerhaal-uitsnit.jpg
END:VEVENT
END:VCALENDAR