BEGIN:VCALENDAR
VERSION:2.0
PRODID:-//De Leiegouw - ECPv6.15.20//NONSGML v1.0//EN
CALSCALE:GREGORIAN
METHOD:PUBLISH
X-ORIGINAL-URL:https://leiegouw.be
X-WR-CALDESC:Evenementen voor De Leiegouw
REFRESH-INTERVAL;VALUE=DURATION:PT1H
X-Robots-Tag:noindex
X-PUBLISHED-TTL:PT1H
BEGIN:VTIMEZONE
TZID:Europe/Brussels
BEGIN:DAYLIGHT
TZOFFSETFROM:+0100
TZOFFSETTO:+0200
TZNAME:CEST
DTSTART:20240331T010000
END:DAYLIGHT
BEGIN:STANDARD
TZOFFSETFROM:+0200
TZOFFSETTO:+0100
TZNAME:CET
DTSTART:20241027T010000
END:STANDARD
BEGIN:DAYLIGHT
TZOFFSETFROM:+0100
TZOFFSETTO:+0200
TZNAME:CEST
DTSTART:20250330T010000
END:DAYLIGHT
BEGIN:STANDARD
TZOFFSETFROM:+0200
TZOFFSETTO:+0100
TZNAME:CET
DTSTART:20251026T010000
END:STANDARD
BEGIN:DAYLIGHT
TZOFFSETFROM:+0100
TZOFFSETTO:+0200
TZNAME:CEST
DTSTART:20260329T010000
END:DAYLIGHT
BEGIN:STANDARD
TZOFFSETFROM:+0200
TZOFFSETTO:+0100
TZNAME:CET
DTSTART:20261025T010000
END:STANDARD
END:VTIMEZONE
BEGIN:VEVENT
DTSTART;VALUE=DATE:20250427
DTEND;VALUE=DATE:20250428
DTSTAMP:20260422T085433
CREATED:20250424T071838Z
LAST-MODIFIED:20250424T071929Z
UID:6219-1745712000-1745798399@leiegouw.be
SUMMARY:Erfgoeddag in Zuid-West-Vlaanderen
DESCRIPTION:Het zuiden van West-Vlaanderen is erg bosarm. Het belangrijkste oudbosrelict in de buurt van Kortrijk is Bellegembos-Argendaalbos. Het gebied is historisch goed gedocumenteerd. Door die informatie te koppelen aan onderzoek in het… Lees verder Bellegembos-Argendaalbos. De historische ecologie van een topbos in Zuid-West-Vlaanderen
URL:https://leiegouw.be/event/erfgoeddag-in-zuid-west-vlaanderen/
CATEGORIES:Evenement
END:VEVENT
END:VCALENDAR